BEGIN:VCALENDAR
VERSION:2.0
PRODID:-//National Handbike Circuit - ECPv6.15.20//NONSGML v1.0//EN
CALSCALE:GREGORIAN
METHOD:PUBLISH
X-WR-CALNAME:National Handbike Circuit
X-ORIGINAL-URL:https://nhcsport.de
X-WR-CALDESC:Veranstaltungen für National Handbike Circuit
REFRESH-INTERVAL;VALUE=DURATION:PT1H
X-Robots-Tag:noindex
X-PUBLISHED-TTL:PT1H
BEGIN:VTIMEZONE
TZID:Europe/Berlin
BEGIN:DAYLIGHT
TZOFFSETFROM:+0100
TZOFFSETTO:+0200
TZNAME:CEST
DTSTART:20230326T010000
END:DAYLIGHT
BEGIN:STANDARD
TZOFFSETFROM:+0200
TZOFFSETTO:+0100
TZNAME:CET
DTSTART:20231029T010000
END:STANDARD
BEGIN:DAYLIGHT
TZOFFSETFROM:+0100
TZOFFSETTO:+0200
TZNAME:CEST
DTSTART:20240331T010000
END:DAYLIGHT
BEGIN:STANDARD
TZOFFSETFROM:+0200
TZOFFSETTO:+0100
TZNAME:CET
DTSTART:20241027T010000
END:STANDARD
BEGIN:DAYLIGHT
TZOFFSETFROM:+0100
TZOFFSETTO:+0200
TZNAME:CEST
DTSTART:20250330T010000
END:DAYLIGHT
BEGIN:STANDARD
TZOFFSETFROM:+0200
TZOFFSETTO:+0100
TZNAME:CET
DTSTART:20251026T010000
END:STANDARD
END:VTIMEZONE
BEGIN:VEVENT
DTSTART;VALUE=DATE:20240929
DTEND;VALUE=DATE:20240930
DTSTAMP:20260420T234336
CREATED:20231003T135837Z
LAST-MODIFIED:20231003T135837Z
UID:1411-1727568000-1727654399@nhcsport.de
SUMMARY:BMW Berlin-Marathon
DESCRIPTION:
URL:https://nhcsport.de/termin/bmw-berlin-marathon-3/
END:VEVENT
BEGIN:VEVENT
DTSTART;VALUE=DATE:20240929
DTEND;VALUE=DATE:20240930
DTSTAMP:20260420T234336
CREATED:20231003T135837Z
LAST-MODIFIED:20231123T182423Z
UID:1437-1727568000-1727654399@nhcsport.de
SUMMARY:Einstein Handbike Halbmarathon
DESCRIPTION:
URL:https://nhcsport.de/termin/einstein-handbike-halbmarathon-2/
LOCATION:Ulm\, Ulm\, 89073\, Deutschland
CATEGORIES:NHC
END:VEVENT
END:VCALENDAR