BEGIN:VCALENDAR
VERSION:2.0
PRODID:-//National Handbike Circuit - ECPv6.15.20//NONSGML v1.0//EN
CALSCALE:GREGORIAN
METHOD:PUBLISH
X-WR-CALNAME:National Handbike Circuit
X-ORIGINAL-URL:https://nhcsport.de
X-WR-CALDESC:Veranstaltungen für National Handbike Circuit
REFRESH-INTERVAL;VALUE=DURATION:PT1H
X-Robots-Tag:noindex
X-PUBLISHED-TTL:PT1H
BEGIN:VTIMEZONE
TZID:Europe/Berlin
BEGIN:DAYLIGHT
TZOFFSETFROM:+0100
TZOFFSETTO:+0200
TZNAME:CEST
DTSTART:20250330T010000
END:DAYLIGHT
BEGIN:STANDARD
TZOFFSETFROM:+0200
TZOFFSETTO:+0100
TZNAME:CET
DTSTART:20251026T010000
END:STANDARD
BEGIN:DAYLIGHT
TZOFFSETFROM:+0100
TZOFFSETTO:+0200
TZNAME:CEST
DTSTART:20260329T010000
END:DAYLIGHT
BEGIN:STANDARD
TZOFFSETFROM:+0200
TZOFFSETTO:+0100
TZNAME:CET
DTSTART:20261025T010000
END:STANDARD
BEGIN:DAYLIGHT
TZOFFSETFROM:+0100
TZOFFSETTO:+0200
TZNAME:CEST
DTSTART:20270328T010000
END:DAYLIGHT
BEGIN:STANDARD
TZOFFSETFROM:+0200
TZOFFSETTO:+0100
TZNAME:CET
DTSTART:20271031T010000
END:STANDARD
END:VTIMEZONE
BEGIN:VEVENT
DTSTART;VALUE=DATE:20260516
DTEND;VALUE=DATE:20260517
DTSTAMP:20260419T174201
CREATED:20251112T105700Z
LAST-MODIFIED:20251112T112828Z
UID:2194-1778889600-1778975999@nhcsport.de
SUMMARY:Black Forest Cup
DESCRIPTION:Anmeldungen per Mail an christoph.kuenstle@gmx.de
URL:https://nhcsport.de/termin/black-forest-cup-3/
LOCATION:Zell am Harmersbach\, Zell am Harmersbach\, 77736\, Germany
CATEGORIES:NHC
END:VEVENT
END:VCALENDAR