BEGIN:VCALENDAR
VERSION:2.0
PRODID:-//National Handbike Circuit - ECPv6.15.20//NONSGML v1.0//EN
CALSCALE:GREGORIAN
METHOD:PUBLISH
X-WR-CALNAME:National Handbike Circuit
X-ORIGINAL-URL:https://nhcsport.de
X-WR-CALDESC:Veranstaltungen für National Handbike Circuit
REFRESH-INTERVAL;VALUE=DURATION:PT1H
X-Robots-Tag:noindex
X-PUBLISHED-TTL:PT1H
BEGIN:VTIMEZONE
TZID:Europe/Berlin
BEGIN:DAYLIGHT
TZOFFSETFROM:+0100
TZOFFSETTO:+0200
TZNAME:CEST
DTSTART:20250330T010000
END:DAYLIGHT
BEGIN:STANDARD
TZOFFSETFROM:+0200
TZOFFSETTO:+0100
TZNAME:CET
DTSTART:20251026T010000
END:STANDARD
BEGIN:DAYLIGHT
TZOFFSETFROM:+0100
TZOFFSETTO:+0200
TZNAME:CEST
DTSTART:20260329T010000
END:DAYLIGHT
BEGIN:STANDARD
TZOFFSETFROM:+0200
TZOFFSETTO:+0100
TZNAME:CET
DTSTART:20261025T010000
END:STANDARD
BEGIN:DAYLIGHT
TZOFFSETFROM:+0100
TZOFFSETTO:+0200
TZNAME:CEST
DTSTART:20270328T010000
END:DAYLIGHT
BEGIN:STANDARD
TZOFFSETFROM:+0200
TZOFFSETTO:+0100
TZNAME:CET
DTSTART:20271031T010000
END:STANDARD
END:VTIMEZONE
BEGIN:VEVENT
DTSTART;VALUE=DATE:20260920
DTEND;VALUE=DATE:20260921
DTSTAMP:20260419T223645
CREATED:20251025T074344Z
LAST-MODIFIED:20251112T112420Z
UID:2161-1789862400-1789948799@nhcsport.de
SUMMARY:KSK Küstenmarathon
DESCRIPTION:
URL:https://nhcsport.de/termin/ksk-kuestenmarathon-3/
LOCATION:Otterndorf\, Otterndorf\, 21762\, Germany
END:VEVENT
BEGIN:VEVENT
DTSTART;VALUE=DATE:20260920
DTEND;VALUE=DATE:20260921
DTSTAMP:20260419T223645
CREATED:20251112T110450Z
LAST-MODIFIED:20251205T064954Z
UID:2201-1789862400-1789948799@nhcsport.de
SUMMARY:BG Handbike-Challenge beim Tübinger Erbe-Lauf
DESCRIPTION:Informationen zu dem Rennen findet ihr in dem beigefügten Flyer: \nFlyer BG Handbike Challenge 2026
URL:https://nhcsport.de/termin/tuebinger-erbe-lauf/
LOCATION:Tübingen\, 72070\, Germany
END:VEVENT
END:VCALENDAR