BEGIN:VCALENDAR
VERSION:2.0
PRODID:-//National Handbike Circuit - ECPv6.15.20//NONSGML v1.0//EN
CALSCALE:GREGORIAN
METHOD:PUBLISH
X-ORIGINAL-URL:https://nhcsport.de
X-WR-CALDESC:Veranstaltungen für National Handbike Circuit
REFRESH-INTERVAL;VALUE=DURATION:PT1H
X-Robots-Tag:noindex
X-PUBLISHED-TTL:PT1H
BEGIN:VTIMEZONE
TZID:Europe/Berlin
BEGIN:DAYLIGHT
TZOFFSETFROM:+0100
TZOFFSETTO:+0200
TZNAME:CEST
DTSTART:20250330T010000
END:DAYLIGHT
BEGIN:STANDARD
TZOFFSETFROM:+0200
TZOFFSETTO:+0100
TZNAME:CET
DTSTART:20251026T010000
END:STANDARD
BEGIN:DAYLIGHT
TZOFFSETFROM:+0100
TZOFFSETTO:+0200
TZNAME:CEST
DTSTART:20260329T010000
END:DAYLIGHT
BEGIN:STANDARD
TZOFFSETFROM:+0200
TZOFFSETTO:+0100
TZNAME:CET
DTSTART:20261025T010000
END:STANDARD
BEGIN:DAYLIGHT
TZOFFSETFROM:+0100
TZOFFSETTO:+0200
TZNAME:CEST
DTSTART:20270328T010000
END:DAYLIGHT
BEGIN:STANDARD
TZOFFSETFROM:+0200
TZOFFSETTO:+0100
TZNAME:CET
DTSTART:20271031T010000
END:STANDARD
END:VTIMEZONE
BEGIN:VEVENT
DTSTART;VALUE=DATE:20260927
DTEND;VALUE=DATE:20260928
DTSTAMP:20260419T224000
CREATED:20251025T074344Z
LAST-MODIFIED:20251112T112501Z
UID:2162-1790467200-1790553599@nhcsport.de
SUMMARY:BMW Berlin-Marathon
DESCRIPTION:
URL:https://nhcsport.de/termin/bmw-berlin-marathon-5/
LOCATION:Berlin\, Berlin\, 10117\, Germany
END:VEVENT
BEGIN:VEVENT
DTSTART;VALUE=DATE:20260927
DTEND;VALUE=DATE:20260928
DTSTAMP:20260419T224000
CREATED:20251025T074344Z
LAST-MODIFIED:20251112T105806Z
UID:2169-1790467200-1790553599@nhcsport.de
SUMMARY:Einstein Handbike Halbmarathon + NHC-Saisonabschlussfeier
DESCRIPTION:
URL:https://nhcsport.de/termin/einstein-handbike-halbmarathon-3/
LOCATION:Ulm\, Ulm\, 89073\, Deutschland
CATEGORIES:NHC
END:VEVENT
END:VCALENDAR