BEGIN:VCALENDAR
VERSION:2.0
PRODID:-//National Handbike Circuit - ECPv6.15.20//NONSGML v1.0//EN
CALSCALE:GREGORIAN
METHOD:PUBLISH
X-WR-CALNAME:National Handbike Circuit
X-ORIGINAL-URL:https://nhcsport.de
X-WR-CALDESC:Veranstaltungen für National Handbike Circuit
REFRESH-INTERVAL;VALUE=DURATION:PT1H
X-Robots-Tag:noindex
X-PUBLISHED-TTL:PT1H
BEGIN:VTIMEZONE
TZID:Europe/Berlin
BEGIN:DAYLIGHT
TZOFFSETFROM:+0100
TZOFFSETTO:+0200
TZNAME:CEST
DTSTART:20240331T010000
END:DAYLIGHT
BEGIN:STANDARD
TZOFFSETFROM:+0200
TZOFFSETTO:+0100
TZNAME:CET
DTSTART:20241027T010000
END:STANDARD
BEGIN:DAYLIGHT
TZOFFSETFROM:+0100
TZOFFSETTO:+0200
TZNAME:CEST
DTSTART:20250330T010000
END:DAYLIGHT
BEGIN:STANDARD
TZOFFSETFROM:+0200
TZOFFSETTO:+0100
TZNAME:CET
DTSTART:20251026T010000
END:STANDARD
BEGIN:DAYLIGHT
TZOFFSETFROM:+0100
TZOFFSETTO:+0200
TZNAME:CEST
DTSTART:20260329T010000
END:DAYLIGHT
BEGIN:STANDARD
TZOFFSETFROM:+0200
TZOFFSETTO:+0100
TZNAME:CET
DTSTART:20261025T010000
END:STANDARD
END:VTIMEZONE
BEGIN:VEVENT
DTSTART;VALUE=DATE:20250406
DTEND;VALUE=DATE:20250407
DTSTAMP:20260420T102325
CREATED:20241003T085648Z
LAST-MODIFIED:20241003T105957Z
UID:1859-1743897600-1743983999@nhcsport.de
SUMMARY:Cracovia Marathon
DESCRIPTION:
URL:https://nhcsport.de/termin/cracovia-marathon-3/
END:VEVENT
BEGIN:VEVENT
DTSTART;VALUE=DATE:20250406
DTEND;VALUE=DATE:20250407
DTSTAMP:20260420T102325
CREATED:20241003T085649Z
LAST-MODIFIED:20241003T105935Z
UID:1840-1743897600-1743983999@nhcsport.de
SUMMARY:Deutsche Post Marathon Bonn
DESCRIPTION:
URL:https://nhcsport.de/termin/deutsche-post-marathon-bonn-4/
LOCATION:Bonn\, Bonn\, 53111\, Germany
END:VEVENT
BEGIN:VEVENT
DTSTART;VALUE=DATE:20250406
DTEND;VALUE=DATE:20250407
DTSTAMP:20260420T102325
CREATED:20241003T085649Z
LAST-MODIFIED:20241003T105941Z
UID:1841-1743897600-1743983999@nhcsport.de
SUMMARY:Korschenbroicher Citylauf
DESCRIPTION:
URL:https://nhcsport.de/termin/korschenbroicher-citylauf-3/
END:VEVENT
BEGIN:VEVENT
DTSTART;VALUE=DATE:20250406
DTEND;VALUE=DATE:20250407
DTSTAMP:20260420T102325
CREATED:20241003T085649Z
LAST-MODIFIED:20241003T105946Z
UID:1848-1743897600-1743983999@nhcsport.de
SUMMARY:HAJ Marathon Hannover
DESCRIPTION:
URL:https://nhcsport.de/termin/haj-marathon-hannover-3/
END:VEVENT
BEGIN:VEVENT
DTSTART;VALUE=DATE:20250406
DTEND;VALUE=DATE:20250407
DTSTAMP:20260420T102325
CREATED:20241003T085649Z
LAST-MODIFIED:20241003T105952Z
UID:1849-1743897600-1743983999@nhcsport.de
SUMMARY:Berliner Halbmarathon
DESCRIPTION:
URL:https://nhcsport.de/termin/berliner-halbmarathon-3/
END:VEVENT
BEGIN:VEVENT
DTSTART;VALUE=DATE:20250413
DTEND;VALUE=DATE:20250414
DTSTAMP:20260420T102325
CREATED:20241003T085649Z
LAST-MODIFIED:20241003T105921Z
UID:1845-1744502400-1744588799@nhcsport.de
SUMMARY:Oberbank Linz Donau Marathon
DESCRIPTION:
URL:https://nhcsport.de/termin/oberbank-linz-donau-marathon-3/
END:VEVENT
BEGIN:VEVENT
DTSTART;VALUE=DATE:20250419
DTEND;VALUE=DATE:20250420
DTSTAMP:20260420T102325
CREATED:20241003T085648Z
LAST-MODIFIED:20241003T105911Z
UID:1857-1745020800-1745107199@nhcsport.de
SUMMARY:Pardubický Vinarsky Pul Marathon
DESCRIPTION:
URL:https://nhcsport.de/termin/pardubicky-vinasky-plmaraton/
END:VEVENT
BEGIN:VEVENT
DTSTART;VALUE=DATE:20250421
DTEND;VALUE=DATE:20250422
DTSTAMP:20260420T102325
CREATED:20241003T085648Z
LAST-MODIFIED:20241003T105831Z
UID:1858-1745193600-1745279999@nhcsport.de
SUMMARY:Boston Marathon
DESCRIPTION:
URL:https://nhcsport.de/termin/boston-marathon-3/
END:VEVENT
BEGIN:VEVENT
DTSTART;VALUE=DATE:20250426
DTEND;VALUE=DATE:20250427
DTSTAMP:20260420T102325
CREATED:20241003T085648Z
LAST-MODIFIED:20241003T105826Z
UID:1852-1745625600-1745711999@nhcsport.de
SUMMARY:Mallorca 312
DESCRIPTION:
URL:https://nhcsport.de/termin/mallorca-312-3/
END:VEVENT
BEGIN:VEVENT
DTSTART;VALUE=DATE:20250427
DTEND;VALUE=DATE:20250428
DTSTAMP:20260420T102325
CREATED:20241003T085635Z
LAST-MODIFIED:20241003T105819Z
UID:1861-1745712000-1745798399@nhcsport.de
SUMMARY:Madrid Marathon
DESCRIPTION:
URL:https://nhcsport.de/termin/madrid-marathon-2/
END:VEVENT
BEGIN:VEVENT
DTSTART;VALUE=DATE:20250427
DTEND;VALUE=DATE:20250428
DTSTAMP:20260420T102325
CREATED:20241003T085636Z
LAST-MODIFIED:20241003T105729Z
UID:1851-1745712000-1745798399@nhcsport.de
SUMMARY:Haspa Hamburg Marathon
DESCRIPTION:
URL:https://nhcsport.de/termin/haspa-hamburg-marathon-3/
END:VEVENT
BEGIN:VEVENT
DTSTART;VALUE=DATE:20250427
DTEND;VALUE=DATE:20250428
DTSTAMP:20260420T102325
CREATED:20250306T154253Z
LAST-MODIFIED:20250306T154253Z
UID:1956-1745712000-1745798399@nhcsport.de
SUMMARY:Internationales Handbikerennen beim RT-Cup in Lugano
DESCRIPTION:Die Anmeldung findet ihr unter folgendem Link: https://form.jotform.com/Lugano_Bike/handbike
URL:https://nhcsport.de/termin/internationales-handbikerennen-beim-rt-cup-in-lugano/
LOCATION:Lugano\, Lugano\, Switzerland
END:VEVENT
END:VCALENDAR