BEGIN:VCALENDAR
VERSION:2.0
PRODID:-//National Handbike Circuit - ECPv6.15.20//NONSGML v1.0//EN
CALSCALE:GREGORIAN
METHOD:PUBLISH
X-ORIGINAL-URL:https://nhcsport.de
X-WR-CALDESC:Veranstaltungen für National Handbike Circuit
REFRESH-INTERVAL;VALUE=DURATION:PT1H
X-Robots-Tag:noindex
X-PUBLISHED-TTL:PT1H
BEGIN:VTIMEZONE
TZID:Europe/Berlin
BEGIN:DAYLIGHT
TZOFFSETFROM:+0100
TZOFFSETTO:+0200
TZNAME:CEST
DTSTART:20240331T010000
END:DAYLIGHT
BEGIN:STANDARD
TZOFFSETFROM:+0200
TZOFFSETTO:+0100
TZNAME:CET
DTSTART:20241027T010000
END:STANDARD
BEGIN:DAYLIGHT
TZOFFSETFROM:+0100
TZOFFSETTO:+0200
TZNAME:CEST
DTSTART:20250330T010000
END:DAYLIGHT
BEGIN:STANDARD
TZOFFSETFROM:+0200
TZOFFSETTO:+0100
TZNAME:CET
DTSTART:20251026T010000
END:STANDARD
BEGIN:DAYLIGHT
TZOFFSETFROM:+0100
TZOFFSETTO:+0200
TZNAME:CEST
DTSTART:20260329T010000
END:DAYLIGHT
BEGIN:STANDARD
TZOFFSETFROM:+0200
TZOFFSETTO:+0100
TZNAME:CET
DTSTART:20261025T010000
END:STANDARD
END:VTIMEZONE
BEGIN:VEVENT
DTSTART;VALUE=DATE:20250501
DTEND;VALUE=DATE:20250502
DTSTAMP:20260420T082800
CREATED:20241003T085635Z
LAST-MODIFIED:20250121T172158Z
UID:1853-1746057600-1746143999@nhcsport.de
SUMMARY:Radklassiker Eschborn-Frankfurt
DESCRIPTION:
URL:https://nhcsport.de/termin/radklassiker-eschborn-frankfurt-3/
CATEGORIES:NHC
END:VEVENT
BEGIN:VEVENT
DTSTART;VALUE=DATE:20250504
DTEND;VALUE=DATE:20250505
DTSTAMP:20260420T082800
CREATED:20241003T085635Z
LAST-MODIFIED:20241003T105557Z
UID:1860-1746316800-1746403199@nhcsport.de
SUMMARY:Neusiedler See Radmarathon
DESCRIPTION:
URL:https://nhcsport.de/termin/neusiedler-see-radmarathon-3/
END:VEVENT
BEGIN:VEVENT
DTSTART;VALUE=DATE:20250504
DTEND;VALUE=DATE:20250505
DTSTAMP:20260420T082800
CREATED:20241003T085635Z
LAST-MODIFIED:20241003T105545Z
UID:1854-1746316800-1746403199@nhcsport.de
SUMMARY:Wings for Life World Run
DESCRIPTION:
URL:https://nhcsport.de/termin/wings-for-life-world-run-3/
END:VEVENT
BEGIN:VEVENT
DTSTART;VALUE=DATE:20250518
DTEND;VALUE=DATE:20250519
DTSTAMP:20260420T082800
CREATED:20241003T085635Z
LAST-MODIFIED:20250121T172343Z
UID:1836-1747526400-1747612799@nhcsport.de
SUMMARY:Rad&Roll am Bodensee
DESCRIPTION:
URL:https://nhcsport.de/termin/fn-auf-raedern/
LOCATION:Ettenkirch\, Ettenkirch\, 88048\, Germany
CATEGORIES:NHC
END:VEVENT
BEGIN:VEVENT
DTSTART;VALUE=DATE:20250518
DTEND;VALUE=DATE:20250519
DTSTAMP:20260420T082800
CREATED:20241003T085635Z
LAST-MODIFIED:20241003T105534Z
UID:1865-1747526400-1747612799@nhcsport.de
SUMMARY:Rhein-Ruhr Marathon Duisburg
DESCRIPTION:
URL:https://nhcsport.de/termin/rhein-ruhr-marathon-duisburg-3/
END:VEVENT
BEGIN:VEVENT
DTSTART;VALUE=DATE:20250521
DTEND;VALUE=DATE:20250522
DTSTAMP:20260420T082800
CREATED:20241003T085635Z
LAST-MODIFIED:20241003T105503Z
UID:1835-1747785600-1747871999@nhcsport.de
SUMMARY:Berliner Firmenlauf
DESCRIPTION:
URL:https://nhcsport.de/termin/berliner-firmenlauf-2/
END:VEVENT
BEGIN:VEVENT
DTSTART;VALUE=DATE:20250525
DTEND;VALUE=DATE:20250526
DTSTAMP:20260420T082800
CREATED:20241003T085635Z
LAST-MODIFIED:20250121T172322Z
UID:1863-1748131200-1748217599@nhcsport.de
SUMMARY:Stuttgart-Lauf
DESCRIPTION:
URL:https://nhcsport.de/termin/stuttgart-lauf-2/
LOCATION:Stuttgart\, Stuttgart\, 70173\, Germany
CATEGORIES:NHC
END:VEVENT
BEGIN:VEVENT
DTSTART;VALUE=DATE:20250525
DTEND;VALUE=DATE:20250526
DTSTAMP:20260420T082800
CREATED:20241003T085635Z
LAST-MODIFIED:20241003T105451Z
UID:1855-1748131200-1748217599@nhcsport.de
SUMMARY:Cyclotour du Leman
DESCRIPTION:
URL:https://nhcsport.de/termin/cyclotour-du-leman-3/
END:VEVENT
BEGIN:VEVENT
DTSTART;VALUE=DATE:20250530
DTEND;VALUE=DATE:20250531
DTSTAMP:20260420T082800
CREATED:20241003T085635Z
LAST-MODIFIED:20241003T105446Z
UID:1862-1748563200-1748649599@nhcsport.de
SUMMARY:Mecklenburger Seen Runde
DESCRIPTION:
URL:https://nhcsport.de/termin/mecklenburger-seen-runde-3/
END:VEVENT
END:VCALENDAR